BEGIN:VCALENDAR
VERSION:2.0
PRODID:-//Occasio Winery - ECPv6.15.14//NONSGML v1.0//EN
CALSCALE:GREGORIAN
METHOD:PUBLISH
X-WR-CALNAME:Occasio Winery
X-ORIGINAL-URL:https://occasiowinery.com
X-WR-CALDESC:Events for Occasio Winery
REFRESH-INTERVAL;VALUE=DURATION:PT1H
X-Robots-Tag:noindex
X-PUBLISHED-TTL:PT1H
BEGIN:VTIMEZONE
TZID:America/Los_Angeles
BEGIN:DAYLIGHT
TZOFFSETFROM:-0800
TZOFFSETTO:-0700
TZNAME:PDT
DTSTART:20210314T100000
END:DAYLIGHT
BEGIN:STANDARD
TZOFFSETFROM:-0700
TZOFFSETTO:-0800
TZNAME:PST
DTSTART:20211107T090000
END:STANDARD
BEGIN:DAYLIGHT
TZOFFSETFROM:-0800
TZOFFSETTO:-0700
TZNAME:PDT
DTSTART:20220313T100000
END:DAYLIGHT
BEGIN:STANDARD
TZOFFSETFROM:-0700
TZOFFSETTO:-0800
TZNAME:PST
DTSTART:20221106T090000
END:STANDARD
BEGIN:DAYLIGHT
TZOFFSETFROM:-0800
TZOFFSETTO:-0700
TZNAME:PDT
DTSTART:20230312T100000
END:DAYLIGHT
BEGIN:STANDARD
TZOFFSETFROM:-0700
TZOFFSETTO:-0800
TZNAME:PST
DTSTART:20231105T090000
END:STANDARD
END:VTIMEZONE
BEGIN:VEVENT
DTSTART;TZID=America/Los_Angeles:20221120T120000
DTEND;TZID=America/Los_Angeles:20221120T150000
DTSTAMP:20260419T054008
CREATED:20221018T143449Z
LAST-MODIFIED:20221103T161124Z
UID:4179-1668945600-1668956400@occasiowinery.com
SUMMARY:Quarterly Release Reception
DESCRIPTION:Join us for our complimentary year end release party as we welcome our new wines and greet old friends. And\, yes – the Chardonnay is back! \n  \nMENU\nCajun Shrimp on Grits \n2021 Founder’s Chardonnay \nBraised Short Ribs over Mashed Potatoes \n2017 Heritage Cabernet Sauvignon \nSIGN UP\n  \nThis event is for members and their guests only. Not a member? It’s easy to join! \n 
URL:https://occasiowinery.com/event/quarterly-release-reception/
ATTACH;FMTTYPE=image/jpeg:https://occasiowinery.com/wp-content/uploads/2022/10/NOV-2022-RELEASE-RECEPTION.jpeg
END:VEVENT
BEGIN:VEVENT
DTSTART;TZID=America/Los_Angeles:20221113T130000
DTEND;TZID=America/Los_Angeles:20221113T143000
DTSTAMP:20260419T054008
CREATED:20221018T044248Z
LAST-MODIFIED:20221109T175853Z
UID:4177-1668344400-1668349800@occasiowinery.com
SUMMARY:Sparkling Wine Experience
DESCRIPTION:Forget the Dom – the first sparkling wines most likely originated with the Benedictines at Abbey St. Hilaire in Southern France (1521). In this class\, we guide you through the history and production of sparkling wines – from the rustic Blanquette de Limoux to the refined sparklers we have today. \nLearn the differences between méthod traditionelle and metodo Martinotti\, between liqueur de tirage and liqueur de dosage\, and many other production steps that go into producing a fine sparkler. \nAnd – above all – taste! \nSeating is limited – and on a first come\, first served basis. So get your tickets today. \nSOLD OUT\nTicket fee includes course notes\, tastings\, and charcuterie selection. \n  \n 
URL:https://occasiowinery.com/event/sparkling-wine-experience/
ATTACH;FMTTYPE=image/jpeg:https://occasiowinery.com/wp-content/uploads/2022/10/FULL-SPARKLING-WINE-EXPERIENCE.jpeg
END:VEVENT
BEGIN:VEVENT
DTSTART;TZID=America/Los_Angeles:20221029T170000
DTEND;TZID=America/Los_Angeles:20221029T200000
DTSTAMP:20260419T054008
CREATED:20220922T184109Z
LAST-MODIFIED:20221005T184948Z
UID:4163-1667062800-1667073600@occasiowinery.com
SUMMARY:A Spooktacular Halloween Evening
DESCRIPTION:Join us for a spooktacular Howl-O-Wine Party on Saturday\, October 29th. Our little cluster of wineries will provide wine by the bottle and glass. Music by Algo Mas and food from Nelly’s Mexican Food Truck will complete the evening. Wear your favorite costume and eat\, drink\, and be scary! \nOpen Seating
URL:https://occasiowinery.com/event/a-spooktacular-halloween-evening/
ATTACH;FMTTYPE=image/jpeg:https://occasiowinery.com/wp-content/uploads/2022/09/Web-Halloween-new.jpeg
END:VEVENT
BEGIN:VEVENT
DTSTART;TZID=America/Los_Angeles:20221006T183000
DTEND;TZID=America/Los_Angeles:20221006T203000
DTSTAMP:20260419T054008
CREATED:20220915T165113Z
LAST-MODIFIED:20220922T185232Z
UID:4141-1665081000-1665088200@occasiowinery.com
SUMMARY:Cheese and Wine at the Cheese Parlor
DESCRIPTION:At first\, we were sceptical that we could find a world class cheese store in Livermore. But Brandon Wood and his Cheese Parlor proved us wrong. The Cheese Parlor is the real deal! That is why we are so excited to partner with him for a cheese and wine event on October 6th. We have challenged Brandon to match cheeses to four of our wines – Dos Mesas\, Telos\, Angelica\, and our Sweet Vermouth. Not only was he proved up to this task\, but he even added additional cheeses to help us explore the culinary science behind wine and cheese pairing! \nThe event will be held at the Cheese Parlor\, 158 Maple St.\, Livermore. The winery owner will be on hand to discuss the wines and Brandon will be on hand to educate us on the cheeses. This should be a fun and educational evening. Tickets are $50. Follow the link to the Cheese Parlors website to purchase yours today. Seating is limited. \n  \nGET TICKETS >
URL:https://occasiowinery.com/event/cheese-and-wine-at-the-cheese-parlor/
ATTACH;FMTTYPE=image/png:https://occasiowinery.com/wp-content/uploads/2022/09/Cheese-event.png
END:VEVENT
BEGIN:VEVENT
DTSTART;TZID=America/Los_Angeles:20221001T170000
DTEND;TZID=America/Los_Angeles:20221001T200000
DTSTAMP:20260419T054008
CREATED:20220922T182133Z
LAST-MODIFIED:20220922T182133Z
UID:4159-1664643600-1664654400@occasiowinery.com
SUMMARY:Harvest Party
DESCRIPTION:Harvest is in full swing and it’s time to party! We are partying with our neighbors and invite you to join us. We’ll have music (Toucan Jam) and\, food (Anthony Scott Catering)\, and a selection of wines by the glass and bottle. Open seating so come early – no cover.
URL:https://occasiowinery.com/event/harvest-party/
ATTACH;FMTTYPE=image/png:https://occasiowinery.com/wp-content/uploads/2022/09/WEB-HARVEST-PARTY-2022.png
END:VEVENT
END:VCALENDAR