BEGIN:VCALENDAR
VERSION:2.0
PRODID:-//Occasio Winery - ECPv6.15.14//NONSGML v1.0//EN
CALSCALE:GREGORIAN
METHOD:PUBLISH
X-WR-CALNAME:Occasio Winery
X-ORIGINAL-URL:https://occasiowinery.com
X-WR-CALDESC:Events for Occasio Winery
REFRESH-INTERVAL;VALUE=DURATION:PT1H
X-Robots-Tag:noindex
X-PUBLISHED-TTL:PT1H
BEGIN:VTIMEZONE
TZID:America/Los_Angeles
BEGIN:DAYLIGHT
TZOFFSETFROM:-0800
TZOFFSETTO:-0700
TZNAME:PDT
DTSTART:20240310T100000
END:DAYLIGHT
BEGIN:STANDARD
TZOFFSETFROM:-0700
TZOFFSETTO:-0800
TZNAME:PST
DTSTART:20241103T090000
END:STANDARD
BEGIN:DAYLIGHT
TZOFFSETFROM:-0800
TZOFFSETTO:-0700
TZNAME:PDT
DTSTART:20250309T100000
END:DAYLIGHT
BEGIN:STANDARD
TZOFFSETFROM:-0700
TZOFFSETTO:-0800
TZNAME:PST
DTSTART:20251102T090000
END:STANDARD
BEGIN:DAYLIGHT
TZOFFSETFROM:-0800
TZOFFSETTO:-0700
TZNAME:PDT
DTSTART:20260308T100000
END:DAYLIGHT
BEGIN:STANDARD
TZOFFSETFROM:-0700
TZOFFSETTO:-0800
TZNAME:PST
DTSTART:20261101T090000
END:STANDARD
BEGIN:DAYLIGHT
TZOFFSETFROM:-0800
TZOFFSETTO:-0700
TZNAME:PDT
DTSTART:20270314T100000
END:DAYLIGHT
BEGIN:STANDARD
TZOFFSETFROM:-0700
TZOFFSETTO:-0800
TZNAME:PST
DTSTART:20271107T090000
END:STANDARD
END:VTIMEZONE
BEGIN:VEVENT
DTSTART;TZID=America/Los_Angeles:20251206T120000
DTEND;TZID=America/Los_Angeles:20251207T163000
DTSTAMP:20260424T103914
CREATED:20241008T183724Z
LAST-MODIFIED:20251203T234548Z
UID:4447-1765022400-1765125000@occasiowinery.com
SUMMARY:Holiday in the Vineyards
DESCRIPTION:OUR ELVES ARE BACK! Holiday in the Vineyards returns the first weekend of December – and what a fun time we will have. Join us on Saturday\, December 6\, and Sunday\, December 7\, from noon to 4:30 for a festive celebration featuring a wide selection of local vendors\, holiday music\, and\, of course\, our finest wines. No reservations required\, so gather your friends and family and get into the holiday spirit with us! \nPARTIAL LIST OF VENDORS\nWINERY\nCita Island (Arbonne) (Saturday & Sunday)\nPepper Pet Design (Saturday only)\nOwlistik Jewelry (Saturday & Sunday)\nForge Cuts Creations (Saturday & Sunday)\nBluebirds Chocolates (Sunday only)\nHandmade Gracefully (Sunday only)\nBangles and Bovines Cards and Tags (Saturday & Sunday) \n  \nSIDEWINDER\nBlissful Bakes (Saturday only)\nPapa T’s Spices (Saturday & Sunday)\nThe Grazing Cart by Mrs. B (Saturday & Sunday)\nThe Succulent Experience (Saturday only)\nTouchstone Jewelry (Saturday & Sunday)
URL:https://occasiowinery.com/event/holiday-in-the-vineyards-2/
ATTACH;FMTTYPE=image/png:https://occasiowinery.com/wp-content/uploads/2024/10/HOLIDAY-IN-THE-VINEYARDS-ELVES.png
END:VEVENT
BEGIN:VEVENT
DTSTART;TZID=America/Los_Angeles:20251210T183000
DTEND;TZID=America/Los_Angeles:20251210T220000
DTSTAMP:20260424T103914
CREATED:20250802T173327Z
LAST-MODIFIED:20251125T053430Z
UID:4595-1765391400-1765404000@occasiowinery.com
SUMMARY:Eat\, Drink & Be Marley: A Dickens Holiday Feast
DESCRIPTION:Enter the world of A Christmas Carol this December 10th\, as Sidewinder Spirits and Occasio Winery host an intimate Dickensian feast steeped in holiday warmth and charm. Limited to just 20 guests\, this four-course dinner reimagines the flavors of Victorian England with modern elegance. From the Cratchit Family Roast to Mrs. Fezziwig’s epiphany-worthy dessert\, each dish is paired with exceptional Occasio wines and Sidewinder’s handcrafted spirits. And\, at the end\, we’ll raise a glass of Scrooge’s Farewell Negus to celebrate the joy\, generosity\, and fellowship at the heart of the season. Join us for an unforgettable evening of food\, storytelling\, and holiday cheer in our cozy\, candlelit distillery. \nSOLD OUT
URL:https://occasiowinery.com/event/eat-drink-be-marley-a-dickens-holiday-feast/
LOCATION:Sidewinder Spirits Company\, 2405 Research Dr\, Livermore
ATTACH;FMTTYPE=image/jpeg:https://occasiowinery.com/wp-content/uploads/2025/08/WEB-VICTORIAN-CHRISTMAS-DINNER.jpg
END:VEVENT
BEGIN:VEVENT
DTSTART;TZID=America/Los_Angeles:20260214T130000
DTEND;TZID=America/Los_Angeles:20260214T150000
DTSTAMP:20260424T103914
CREATED:20250802T192719Z
LAST-MODIFIED:20260109T223555Z
UID:4598-1771074000-1771081200@occasiowinery.com
SUMMARY:Rushmore Rocks: Cocktails with the Commanders-in-Chief
DESCRIPTION:Raise a glass to the legends of Liberty! Join us at Sidewinder Spirits on Saturday\, February 14\, from 1–3 PM for a Presidents Day celebration like no other. We’re mixing history with high spirits as we honor the Mount Rushmore Four—Washington\, Jefferson\, Lincoln\, and Roosevelt—with cocktails inspired by their favorite tipples. From colonial-style rye to wine-soaked revolution\, it’s an afternoon of bold flavors\, fascinating anecdotes\, and patriotic fun. Whether you’re a history buff\, cocktail lover\, or just in it for the Roosevelt punch\, this is one presidential toast you won’t want to miss. \nSOLD OUT
URL:https://occasiowinery.com/event/rushmore-rocks-cocktails-with-the-commanders-in-chief/
LOCATION:Sidewinder Spirits Company\, 2405 Research Dr\, Livermore
ATTACH;FMTTYPE=image/jpeg:https://occasiowinery.com/wp-content/uploads/2025/08/WEB-WHIMSICAL-MOUNT-RUSHMORE-DRINKS.jpg
END:VEVENT
BEGIN:VEVENT
DTSTART;TZID=America/Los_Angeles:20260221T110000
DTEND;TZID=America/Los_Angeles:20260221T153000
DTSTAMP:20260424T103914
CREATED:20260127T170015Z
LAST-MODIFIED:20260210T171710Z
UID:4628-1771671600-1771687800@occasiowinery.com
SUMMARY:Winter 2026 Wine Release Party
DESCRIPTION:Join us for an intimate seated tasting of our latest releases to kick off the new year. This special event offers a guided exploration of our new wines\, direct conversation with the winemaker and owner about these releases\, and a preview of what’s ahead for the coming year. \nHighlights:\nOur 2023 Petite Sirah — the first in a decade from the renowned Casa de Vinas vineyard in Livermore Valley. This bold\, gold medal-winning beauty delivers lush notes of red fruit with a hint of black cherry\, cocoa\, and a touch of black pepper. The wine is rich in color\, with firm tannins and impressive depth. \nOur exciting new release: Rosé – élevé — a vibrant\, fruit-forward rosé from Fong Vineyard\, gently barrel-aged (élevé) for added roundness and complexity while preserving its fresh charm. \nLight snacks from the cheese parlor will be provided to complement the tasting. This is a relaxed\, educational experience — no music or full catered pairings\, just focused time with the wines and our team. \nThe event is complimentary for wine club members. \nWe offer three limited seatings to ensure an intimate setting: \n11:00 AM \n12:30 PM \n2:00 PM \nSelect your preferred time when reserving. Tickets are available only to logged-in wine club members via your account on our website. If you’d prefer to sign up in person at the winery\, you’re welcome to do so during open hours. Need assistance logging in or reserving? Give us a call during business hours or send an email — we’re happy to help! \nWe look forward to sharing these special wines with you and toasting to the year ahead. \nSOLD OUT
URL:https://occasiowinery.com/event/winter-2026-wine-release-party/
LOCATION:Sidewinder Spirits Company\, 2405 Research Dr\, Livermore
ATTACH;FMTTYPE=image/jpeg:https://occasiowinery.com/wp-content/uploads/2017/09/old-vine-zin-web-1.jpg
END:VEVENT
BEGIN:VEVENT
DTSTART;TZID=America/Los_Angeles:20260315T120000
DTEND;TZID=America/Los_Angeles:20260315T140000
DTSTAMP:20260424T103914
CREATED:20260107T221928Z
LAST-MODIFIED:20260218T185338Z
UID:4625-1773576000-1773583200@occasiowinery.com
SUMMARY:Cocktails on the Red Carpet
DESCRIPTION:Join us for an elegant early afternoon cocktail class celebrating the magic of cinema just before the 2026 Oscars broadcast! In this 1-2 hour hands-on session\, you’ll learn to craft signature drinks inspired by timeless classics\, including the signature cocktail from the greatest film never to take home a prize. Perfect for film buffs and cocktail enthusiasts alike—raise a glass to Hollywood’s golden age! \n  \nSOLD OUT
URL:https://occasiowinery.com/event/cocktails-on-the-red-carpet/
LOCATION:Sidewinder Spirits Company\, 2405 Research Dr\, Livermore
ATTACH;FMTTYPE=image/jpeg:https://occasiowinery.com/wp-content/uploads/2026/01/NIGHT-AT-THE-OSCARS.jpg
END:VEVENT
BEGIN:VEVENT
DTSTART;TZID=America/Los_Angeles:20260327T180000
DTEND;TZID=America/Los_Angeles:20260327T210000
DTSTAMP:20260424T103914
CREATED:20260302T195758Z
LAST-MODIFIED:20260302T195758Z
UID:4684-1774634400-1774645200@occasiowinery.com
SUMMARY:Alameda Whiskey Stroll
DESCRIPTION:We’re delighted to be pouring at Downtown Alameda’s 8th Annual Whiskey Stroll — an evening dedicated to craft\, character\, and community. \nSip and stroll through Alameda’s charming historic downtown district while sampling premium local and international whiskeys at curated host locations. Along the way\, enjoy thoughtfully paired bites\, live entertainment\, and the opportunity to connect with the makers and ambassadors behind the bottles. Whether you’re a seasoned collector or simply whiskey-curious\, this is a wonderful way to deepen your appreciation for the spirit in an engaging\, walkable setting. \nTickets include a collectible tasting glass\, premium whiskey tastings at participating downtown venues\, small bites at select locations\, and a commemorative event guide.\nWe hope you’ll join us for this spirited evening. \nFor tickets and event details\, visit AlamedaStrolls.com.
URL:https://occasiowinery.com/event/alameda-whiskey-stroll/
ATTACH;FMTTYPE=image/jpeg:https://occasiowinery.com/wp-content/uploads/2026/03/ALAMEDA-WHISKY-STROLL-2026.jpeg
END:VEVENT
BEGIN:VEVENT
DTSTART;TZID=America/Los_Angeles:20260411T130000
DTEND;TZID=America/Los_Angeles:20260411T150000
DTSTAMP:20260424T103914
CREATED:20260218T184740Z
LAST-MODIFIED:20260313T014756Z
UID:4681-1775912400-1775919600@occasiowinery.com
SUMMARY:Terroir Through Time: An Occasio Vintage Retrospective
DESCRIPTION:Join us for a rare and intimate seated tasting as we explore the early chapters of Occasio Winery and trace the evolution of our wines over time. \nThis two-hour retrospective will feature selections from our earliest vintages—including our inaugural 2008 Petite Sirah\, the wine that founded our tasting room—alongside early Cabernet Sauvignon releases and more recent vintages for comparison. \nTogether\, we’ll examine how these wines have aged\, how vineyard expression has revealed itself over the years\, and how we have refined our interpretation of Livermore Valley terroir vintage after vintage. \nWith just 16 seats available\, this first-come\, first-served experience offers a thoughtful\, in-depth look at where we began and where we are headed. \nSOLD OUT
URL:https://occasiowinery.com/event/terroir-through-time-livermore-vintage-retrospective/
LOCATION:Sidewinder Spirits Company\, 2405 Research Dr\, Livermore
ATTACH;FMTTYPE=image/png:https://occasiowinery.com/wp-content/uploads/2026/02/2012-CAB-SAUV-IN-HAND.png
END:VEVENT
BEGIN:VEVENT
DTSTART;TZID=America/Los_Angeles:20260517T120000
DTEND;TZID=America/Los_Angeles:20260517T120000
DTSTAMP:20260424T103914
CREATED:20250130T162012Z
LAST-MODIFIED:20260423T142721Z
UID:4502-1779019200-1779019200@occasiowinery.com
SUMMARY:Spring 2026 Release Party
DESCRIPTION:Our spring wine club release will be on Sunday\, May 17\, 2026\, from noon to 2 at Sidewinder. Enjoy sampling our two new wines along with these food pairings from On the Vine Catering. More information will be coming soon. \n  \nTICKETS\n  \n\n\nTHE WINES\n2025 Sauvignon Blanc — Sunol Highlands\, Livermore Valley\n96 cases produced · 13.2% ABV \nWe are excited to present our 2025 Sauvignon Blanc from Sunol Highlands\, a remarkable high-elevation site nestled in the coastal hills above Calaveras Reservoir. Perched where marine influence meets inland warmth\, this vineyard consistently delivers wines of clarity\, energy\, and precision. This limited release—just 96 cases—captures the distinctive character of one of Livermore Valley’s most compelling sites. \nIn the glass\, the wine opens with bright aromatics of citrus blossom\, lime zest\, and fresh-cut herbs\, layered with notes of green apple and a subtle mineral edge. The palate is vibrant and focused—crisp acidity\, a clean mid-palate\, and a refreshing lift that carries through a long\, mouthwatering finish. \nAt 13.2% alcohol\, the wine leans into freshness and restraint\, highlighting the natural balance achieved at elevation. This is Sauvignon Blanc shaped by place—cool nights\, coastal winds\, and a patient approach to farming and winemaking that preserves both purity and expression. \nBeautifully expressive in its youth\, this wine offers immediate appeal while maintaining the structure to evolve gracefully over the near term—an authentic reflection of Sunol Highlands and the Livermore Valley. \n  \n2023 Pinot Noir — Lineage Estate\, Green Valley (Russian River Valley)\n82 cases produced · 14.3% ABV \nWe are proud to introduce our 2023 Pinot Noir from Lineage Estate\, rooted in the cool\, fog-laced Green Valley of the Russian River Valley. This limited release—just 82 cases—brings together an equal blend of Martini\, Pommard\, and Dijon 777 clones\, each contributing its own voice to a seamless whole. \nIn the glass\, the wine opens with lifted aromatics of red cherry\, wild strawberry\, and rose petal\, layered with subtle notes of forest floor and baking spice. The palate is defined by precision and restraint—bright acidity\, fine-grained tannins\, and a silken texture that carries through a long\, nuanced finish. \nAt 14.3% alcohol\, the wine strikes a compelling balance between ripeness and freshness\, capturing the natural tension that defines Green Valley Pinot Noir. This is a wine shaped by place—coastal influence\, thoughtful farming\, and a careful blending of heritage and modern clonal selections. \nBeautifully expressive now\, it will continue to evolve with grace over the coming years\, offering a pure and focused expression of the Lineage Estate vineyard. \n 
URL:https://occasiowinery.com/event/a-day-of-wine-and-roses/
LOCATION:Sidewinder Spirits Company\, 2405 Research Dr\, Livermore
ATTACH;FMTTYPE=image/png:https://occasiowinery.com/wp-content/uploads/2025/01/SPRING-2025-RELEASE.png
END:VEVENT
BEGIN:VEVENT
DTSTART;TZID=America/Los_Angeles:20260527T170000
DTEND;TZID=America/Los_Angeles:20260527T200000
DTSTAMP:20260424T103914
CREATED:20230418T190728Z
LAST-MODIFIED:20260325T151424Z
UID:4244-1779901200-1779912000@occasiowinery.com
SUMMARY:Wine Wednesday on the Patio
DESCRIPTION:Join us for a relaxing Wine Wednesday on May 27 from 5–8 PM on the Occasio tasting room patio. It’s the perfect midweek escape—an evening of great wine\, live music\, and delicious food in a welcoming outdoor setting. \nWe’ll be pouring a selection of Occasio favorites and current releases\, all available with special Wine Wednesday pricing by the glass or bottle. \nMusic and food vendor details will be announced soon. \nGather a few friends\, unwind after the workday\, and enjoy a beautiful evening of wine\, conversation\, and patio vibes in the heart of Livermore Valley.
URL:https://occasiowinery.com/event/wine-wednesday/
LOCATION:Occasio Winery\, 2245B South Vasco Road\, Livermore\, CA\, CA\, United States
ATTACH;FMTTYPE=image/png:https://occasiowinery.com/wp-content/uploads/2023/04/WINE-WEDNESDAY-2026-PATIO-IMAGE.png
END:VEVENT
END:VCALENDAR